BEGIN:VCALENDAR
VERSION:2.0
PRODID:-//Tukios.com/
BEGIN:VEVENT
UID:9727b57a-5a38-472c-ba4e-1f0fbaca2135@www.aerossfuneralhome.com
DTSTAMP:20260423T200135Z
DTSTART:20260427T173000Z
DTEND:20260427T183000Z
SUMMARY:Interment
DESCRIPTION:
URL:https://www.aerossfuneralhome.com/obituaries/margaret-dziesinski
LOCATION: 1300 W. Washington Avenue  Alpena MI 49707
GEO:45.0596792;-83.4638075
END:VEVENT
END:VCALENDAR