BEGIN:VCALENDAR
VERSION:2.0
PRODID:-//Tukios.com/
BEGIN:VEVENT
UID:0ef19761-4cd1-42ab-8eec-8d4a260e0dd6@www.aerossfuneralhome.com
DTSTAMP:20260423T195120Z
DTSTART:20260426T220000Z
DTEND:20260426T230000Z
SUMMARY:Funeral Service
DESCRIPTION:
URL:https://www.aerossfuneralhome.com/obituaries/margaret-dziesinski
LOCATION: 516 W Chisholm St  Alpena MI 49707
GEO:45.0662846;-83.4384995
END:VEVENT
END:VCALENDAR