BEGIN:VCALENDAR
VERSION:2.0
PRODID:-//Tukios.com/
BEGIN:VEVENT
UID:0888c55d-614c-443e-ac92-d86ba1915a6d@www.aerossfuneralhome.com
DTSTAMP:20260423T195800Z
DTSTART:20260426T213000Z
DTEND:20260426T220000Z
SUMMARY:Rosary
DESCRIPTION:
URL:https://www.aerossfuneralhome.com/obituaries/margaret-dziesinski
LOCATION: 516 W Chisholm St  Alpena MI 49707
GEO:45.0662846;-83.4384995
END:VEVENT
END:VCALENDAR