BEGIN:VCALENDAR
VERSION:2.0
PRODID:-//Tukios.com/
BEGIN:VEVENT
UID:81717a38-7726-4bb5-8bf3-b58323710585@www.aerossfuneralhome.com
DTSTAMP:20260423T195816Z
DTSTART:20260426T180000Z
DTEND:20260426T230000Z
SUMMARY:Visitation
DESCRIPTION:
URL:https://www.aerossfuneralhome.com/obituaries/margaret-dziesinski
LOCATION: 516 W Chisholm St  Alpena MI 49707
GEO:45.0662846;-83.4384995
END:VEVENT
END:VCALENDAR